Package: mistyR Version: 1.15.0 Command: /Library/Frameworks/R.framework/Resources/bin/R CMD build --keep-empty-dirs --no-resave-data mistyR StartedAt: 2025-02-20 17:22:12 -0500 (Thu, 20 Feb 2025) EndedAt: 2025-02-20 17:24:39 -0500 (Thu, 20 Feb 2025) EllapsedTime: 147.3 seconds RetCode: 0 Status: OK PackageFile: mistyR_1.15.0.tar.gz PackageFileSize: 3.093 MiB