Package: mist Version: 0.99.18 Command: E:\biocbuild\bbs-3.21-bioc\R\bin\R.exe CMD check --no-multiarch --install=check:mist.install-out.txt --library=E:\biocbuild\bbs-3.21-bioc\R\library --no-vignettes --timings mist_0.99.18.tar.gz StartedAt: 2025-02-21 03:20:10 -0500 (Fri, 21 Feb 2025) EndedAt: 2025-02-21 03:28:51 -0500 (Fri, 21 Feb 2025) EllapsedTime: 521.3 seconds RetCode: 0 Status: WARNINGS CheckDir: mist.Rcheck Warnings: 1