Package: mist Version: 0.99.18 Command: chmod a+r mist -R && E:\biocbuild\bbs-3.21-bioc\R\bin\R.exe CMD build --keep-empty-dirs --no-resave-data mist StartedAt: 2025-02-20 20:01:34 -0500 (Thu, 20 Feb 2025) EndedAt: 2025-02-20 20:05:11 -0500 (Thu, 20 Feb 2025) EllapsedTime: 216.5 seconds RetCode: 0 Status: OK PackageFile: mist_0.99.18.tar.gz PackageFileSize: 310.2 KiB