Package: mist Version: 0.99.18 Command: /Library/Frameworks/R.framework/Resources/bin/R CMD INSTALL mist StartedAt: 2025-02-20 15:31:45 -0500 (Thu, 20 Feb 2025) EndedAt: 2025-02-20 15:32:28 -0500 (Thu, 20 Feb 2025) EllapsedTime: 42.6 seconds RetCode: 0 Status: OK