Package: mist Version: 0.99.18 Command: /Library/Frameworks/R.framework/Resources/bin/R CMD check --install=check:mist.install-out.txt --library=/Library/Frameworks/R.framework/Resources/library --no-vignettes --timings mist_0.99.18.tar.gz StartedAt: 2025-02-20 21:41:16 -0500 (Thu, 20 Feb 2025) EndedAt: 2025-02-20 21:47:08 -0500 (Thu, 20 Feb 2025) EllapsedTime: 352.5 seconds RetCode: 0 Status: WARNINGS CheckDir: mist.Rcheck Warnings: 1