Package: missMethyl Version: 1.41.0 Command: chmod a+r missMethyl -R && E:\biocbuild\bbs-3.21-bioc\R\bin\R.exe CMD build --keep-empty-dirs --no-resave-data missMethyl StartedAt: 2025-02-20 20:01:24 -0500 (Thu, 20 Feb 2025) EndedAt: 2025-02-20 20:24:00 -0500 (Thu, 20 Feb 2025) EllapsedTime: 1355.5 seconds RetCode: 0 Status: OK PackageFile: missMethyl_1.41.0.tar.gz PackageFileSize: 639.2 KiB