Package: missMethyl Version: 1.41.0 Command: rm -rf missMethyl.buildbin-libdir && mkdir missMethyl.buildbin-libdir && E:\biocbuild\bbs-3.21-bioc\R\bin\R.exe CMD INSTALL --build --library=missMethyl.buildbin-libdir missMethyl_1.41.0.tar.gz StartedAt: 2025-02-21 08:33:29 -0500 (Fri, 21 Feb 2025) EndedAt: 2025-02-21 08:39:12 -0500 (Fri, 21 Feb 2025) EllapsedTime: 343.5 seconds RetCode: 0 Status: OK PackageFile: missMethyl_1.41.0.zip PackageFileSize: 755 KiB