Package: missMethyl Version: 1.41.0 Command: /home/biocbuild/bbs-3.21-bioc/R/bin/R CMD build --keep-empty-dirs --no-resave-data missMethyl StartedAt: 2025-02-20 18:14:11 -0500 (Thu, 20 Feb 2025) EndedAt: 2025-02-20 18:31:23 -0500 (Thu, 20 Feb 2025) EllapsedTime: 1032.2 seconds RetCode: 0 Status: OK PackageFile: missMethyl_1.41.0.tar.gz PackageFileSize: 1.432 MiB