Package: missMethyl Version: 1.41.0 Command: /Library/Frameworks/R.framework/Resources/bin/R CMD INSTALL missMethyl StartedAt: 2025-02-20 15:27:38 -0500 (Thu, 20 Feb 2025) EndedAt: 2025-02-20 15:30:24 -0500 (Thu, 20 Feb 2025) EllapsedTime: 166.3 seconds RetCode: 0 Status: OK