Package: mirTarRnaSeq Version: 1.15.0 Command: /Library/Frameworks/R.framework/Resources/bin/R CMD INSTALL mirTarRnaSeq StartedAt: 2025-02-21 15:05:54 -0500 (Fri, 21 Feb 2025) EndedAt: 2025-02-21 15:05:59 -0500 (Fri, 21 Feb 2025) EllapsedTime: 4.4 seconds RetCode: 0 Status: OK