Package: mirTarRnaSeq Version: 1.15.0 Command: /Library/Frameworks/R.framework/Resources/bin/R CMD check --install=check:mirTarRnaSeq.install-out.txt --library=/Library/Frameworks/R.framework/Resources/library --no-vignettes --timings mirTarRnaSeq_1.15.0.tar.gz StartedAt: 2025-02-20 20:12:43 -0500 (Thu, 20 Feb 2025) EndedAt: 2025-02-20 20:13:08 -0500 (Thu, 20 Feb 2025) EllapsedTime: 24.3 seconds RetCode: 0 Status: OK CheckDir: mirTarRnaSeq.Rcheck Warnings: 0