Package: mirTarRnaSeq Version: 1.15.0 Command: rm -rf mirTarRnaSeq.buildbin-libdir && mkdir mirTarRnaSeq.buildbin-libdir && /Users/biocbuild/BBS/utils/build-universal.sh mirTarRnaSeq_1.15.0.tar.gz /Library/Frameworks/R.framework/Resources/bin/R mirTarRnaSeq.buildbin-libdir StartedAt: 2025-02-21 23:03:21 -0500 (Fri, 21 Feb 2025) EndedAt: 2025-02-21 23:03:26 -0500 (Fri, 21 Feb 2025) EllapsedTime: 5.1 seconds RetCode: 0 Status: OK PackageFile: mirTarRnaSeq_1.15.0.tgz PackageFileSize: 4.267 MiB