Package: mirIntegrator Version: 1.37.0 Command: E:\biocbuild\bbs-3.21-bioc\R\bin\R.exe CMD INSTALL mirIntegrator StartedAt: 2025-02-19 15:46:17 -0500 (Wed, 19 Feb 2025) EndedAt: 2025-02-19 15:46:53 -0500 (Wed, 19 Feb 2025) EllapsedTime: 35.9 seconds RetCode: 0 Status: OK