Package: mirIntegrator Version: 1.37.0 Command: rm -rf mirIntegrator.buildbin-libdir && mkdir mirIntegrator.buildbin-libdir && E:\biocbuild\bbs-3.21-bioc\R\bin\R.exe CMD INSTALL --build --library=mirIntegrator.buildbin-libdir mirIntegrator_1.37.0.tar.gz StartedAt: 2025-02-20 08:12:15 -0500 (Thu, 20 Feb 2025) EndedAt: 2025-02-20 08:12:45 -0500 (Thu, 20 Feb 2025) EllapsedTime: 30.1 seconds RetCode: 0 Status: OK PackageFile: mirIntegrator_1.37.0.zip PackageFileSize: 1.713 MiB