Package: mirIntegrator Version: 1.37.0 Command: /Library/Frameworks/R.framework/Resources/bin/R CMD INSTALL mirIntegrator StartedAt: 2025-02-19 15:13:06 -0500 (Wed, 19 Feb 2025) EndedAt: 2025-02-19 15:13:28 -0500 (Wed, 19 Feb 2025) EllapsedTime: 21.3 seconds RetCode: 0 Status: OK