Package: mirIntegrator Version: 1.37.0 Command: /Library/Frameworks/R.framework/Resources/bin/R CMD check --install=check:mirIntegrator.install-out.txt --library=/Library/Frameworks/R.framework/Resources/library --no-vignettes --timings mirIntegrator_1.37.0.tar.gz StartedAt: 2025-02-19 20:15:06 -0500 (Wed, 19 Feb 2025) EndedAt: 2025-02-19 20:16:02 -0500 (Wed, 19 Feb 2025) EllapsedTime: 56.7 seconds RetCode: 0 Status: OK CheckDir: mirIntegrator.Rcheck Warnings: 0