Package: minfi Version: 1.53.1 Command: E:\biocbuild\bbs-3.21-bioc\R\bin\R.exe CMD INSTALL minfi StartedAt: 2025-02-18 16:51:44 -0500 (Tue, 18 Feb 2025) EndedAt: 2025-02-18 16:53:30 -0500 (Tue, 18 Feb 2025) EllapsedTime: 106.4 seconds RetCode: 0 Status: OK