Package: minfi Version: 1.53.1 Command: /Library/Frameworks/R.framework/Resources/bin/R CMD build --keep-empty-dirs --no-resave-data minfi StartedAt: 2025-02-18 17:19:17 -0500 (Tue, 18 Feb 2025) EndedAt: 2025-02-18 17:21:26 -0500 (Tue, 18 Feb 2025) EllapsedTime: 128.1 seconds RetCode: 0 Status: OK PackageFile: minfi_1.53.1.tar.gz PackageFileSize: 505.4 KiB