Package: minfi Version: 1.53.1 Command: /Library/Frameworks/R.framework/Resources/bin/R CMD INSTALL minfi StartedAt: 2025-02-18 15:26:58 -0500 (Tue, 18 Feb 2025) EndedAt: 2025-02-18 15:27:19 -0500 (Tue, 18 Feb 2025) EllapsedTime: 20.2 seconds RetCode: 0 Status: OK