Package: minfi Version: 1.53.1 Command: /Library/Frameworks/R.framework/Resources/bin/R CMD check --install=check:minfi.install-out.txt --library=/Library/Frameworks/R.framework/Resources/library --no-vignettes --timings minfi_1.53.1.tar.gz StartedAt: 2025-02-18 20:12:49 -0500 (Tue, 18 Feb 2025) EndedAt: 2025-02-18 20:16:05 -0500 (Tue, 18 Feb 2025) EllapsedTime: 196.3 seconds RetCode: 0 Status: OK CheckDir: minfi.Rcheck Warnings: 0