Package: minet Version: 3.65.0 Command: chmod a+r minet -R && E:\biocbuild\bbs-3.21-bioc\R\bin\R.exe CMD build --keep-empty-dirs --no-resave-data minet StartedAt: 2025-02-19 19:56:44 -0500 (Wed, 19 Feb 2025) EndedAt: 2025-02-19 19:56:47 -0500 (Wed, 19 Feb 2025) EllapsedTime: 3.0 seconds RetCode: 0 Status: OK PackageFile: minet_3.65.0.tar.gz PackageFileSize: 50.12 KiB