Package: minet Version: 3.65.0 Command: /home/biocbuild/bbs-3.21-bioc/R/bin/R CMD check --install=check:minet.install-out.txt --library=/home/biocbuild/bbs-3.21-bioc/R/site-library --timings minet_3.65.0.tar.gz StartedAt: 2025-02-20 00:04:45 -0500 (Thu, 20 Feb 2025) EndedAt: 2025-02-20 00:05:00 -0500 (Thu, 20 Feb 2025) EllapsedTime: 15.0 seconds RetCode: 0 Status: OK CheckDir: minet.Rcheck Warnings: 0