Package: mina Version: 1.15.0 Command: chmod a+r mina -R && E:\biocbuild\bbs-3.21-bioc\R\bin\R.exe CMD build --keep-empty-dirs --no-resave-data mina StartedAt: 2025-02-20 19:58:53 -0500 (Thu, 20 Feb 2025) EndedAt: 2025-02-20 20:03:27 -0500 (Thu, 20 Feb 2025) EllapsedTime: 274.1 seconds RetCode: 0 Status: OK PackageFile: mina_1.15.0.tar.gz PackageFileSize: 4.018 MiB