Package: mina Version: 1.15.0 Command: /home/biocbuild/bbs-3.21-bioc/R/bin/R CMD INSTALL mina StartedAt: 2025-02-20 15:23:17 -0500 (Thu, 20 Feb 2025) EndedAt: 2025-02-20 15:23:45 -0500 (Thu, 20 Feb 2025) EllapsedTime: 27.8 seconds RetCode: 0 Status: OK