Package: mina Version: 1.15.0 Command: /Library/Frameworks/R.framework/Resources/bin/R CMD check --install=check:mina.install-out.txt --library=/Library/Frameworks/R.framework/Resources/library --no-vignettes --timings mina_1.15.0.tar.gz StartedAt: 2025-02-20 21:37:53 -0500 (Thu, 20 Feb 2025) EndedAt: 2025-02-20 21:41:56 -0500 (Thu, 20 Feb 2025) EllapsedTime: 243.5 seconds RetCode: 0 Status: WARNINGS CheckDir: mina.Rcheck Warnings: 1