Package: mimager Version: 1.31.0 Command: /home/biocbuild/bbs-3.21-bioc/R/bin/R CMD INSTALL mimager StartedAt: 2025-02-20 15:29:33 -0500 (Thu, 20 Feb 2025) EndedAt: 2025-02-20 15:29:34 -0500 (Thu, 20 Feb 2025) EllapsedTime: 1.2 seconds RetCode: 1 Status: ERROR