Package: mimager Version: 1.31.0 Command: /home/biocbuild/bbs-3.21-bioc/R/bin/R CMD build --keep-empty-dirs --no-resave-data mimager StartedAt: 2025-02-19 18:06:05 -0500 (Wed, 19 Feb 2025) EndedAt: 2025-02-19 18:06:06 -0500 (Wed, 19 Feb 2025) EllapsedTime: 1.0 seconds RetCode: 1 Status: ERROR PackageFile: None PackageFileSize: NA