Package: mimager Version: 1.31.0 Command: /Library/Frameworks/R.framework/Resources/bin/R CMD INSTALL mimager StartedAt: 2025-02-20 15:13:46 -0500 (Thu, 20 Feb 2025) EndedAt: 2025-02-20 15:13:47 -0500 (Thu, 20 Feb 2025) EllapsedTime: 0.9 seconds RetCode: 1 Status: ERROR