Package: mimager Version: 1.31.0 Command: /Library/Frameworks/R.framework/Resources/bin/R CMD build --keep-empty-dirs --no-resave-data mimager StartedAt: 2025-02-20 17:20:38 -0500 (Thu, 20 Feb 2025) EndedAt: 2025-02-20 17:20:39 -0500 (Thu, 20 Feb 2025) EllapsedTime: 1.2 seconds RetCode: 1 Status: ERROR PackageFile: None PackageFileSize: NA