Package: miloR Version: 2.3.0 Command: /home/biocbuild/bbs-3.21-bioc/R/bin/R CMD INSTALL miloR StartedAt: 2025-02-20 16:07:21 -0500 (Thu, 20 Feb 2025) EndedAt: 2025-02-20 16:09:30 -0500 (Thu, 20 Feb 2025) EllapsedTime: 128.9 seconds RetCode: 0 Status: OK