Package: miloR Version: 2.3.0 Command: /home/biocbuild/bbs-3.21-bioc/R/bin/R CMD build --keep-empty-dirs --no-resave-data miloR StartedAt: 2025-02-20 18:12:47 -0500 (Thu, 20 Feb 2025) EndedAt: 2025-02-20 18:28:43 -0500 (Thu, 20 Feb 2025) EllapsedTime: 956.1 seconds RetCode: 0 Status: OK PackageFile: miloR_2.3.0.tar.gz PackageFileSize: 7.192 MiB