Package: miloR Version: 2.3.0 Command: /home/biocbuild/R/R/bin/R CMD check --install=check:miloR.install-out.txt --library=/home/biocbuild/R/R/site-library --no-vignettes --timings miloR_2.3.0.tar.gz StartedAt: 2025-01-28 12:29:38 -0000 (Tue, 28 Jan 2025) EndedAt: 2025-01-28 12:39:41 -0000 (Tue, 28 Jan 2025) EllapsedTime: 602.8 seconds RetCode: 0 Status: WARNINGS CheckDir: miloR.Rcheck Warnings: 1