Package: miloR Version: 2.3.0 Command: /home/biocbuild/R/R/bin/R CMD build --keep-empty-dirs --no-resave-data miloR StartedAt: 2025-01-29 00:20:53 -0000 (Wed, 29 Jan 2025) EndedAt: 2025-01-29 00:49:47 -0000 (Wed, 29 Jan 2025) EllapsedTime: 1733.8 seconds RetCode: 0 Status: OK PackageFile: miloR_2.3.0.tar.gz PackageFileSize: 6.042 MiB