Package: miloR Version: 2.3.0 Command: /Library/Frameworks/R.framework/Resources/bin/R CMD build --keep-empty-dirs --no-resave-data miloR StartedAt: 2025-02-19 16:57:23 -0500 (Wed, 19 Feb 2025) EndedAt: 2025-02-19 17:04:25 -0500 (Wed, 19 Feb 2025) EllapsedTime: 421.6 seconds RetCode: 0 Status: OK PackageFile: miloR_2.3.0.tar.gz PackageFileSize: 7.658 MiB