Package: midasHLA Version: 1.15.0 Command: E:\biocbuild\bbs-3.21-bioc\R\bin\R.exe CMD check --no-multiarch --install=check:midasHLA.install-out.txt --library=E:\biocbuild\bbs-3.21-bioc\R\library --no-vignettes --timings midasHLA_1.15.0.tar.gz StartedAt: 2025-02-20 03:00:37 -0500 (Thu, 20 Feb 2025) EndedAt: 2025-02-20 03:06:29 -0500 (Thu, 20 Feb 2025) EllapsedTime: 351.9 seconds RetCode: 0 Status: WARNINGS CheckDir: midasHLA.Rcheck Warnings: 1