Package: midasHLA Version: 1.15.0 Command: /home/biocbuild/bbs-3.21-bioc/R/bin/R CMD check --install=check:midasHLA.install-out.txt --library=/home/biocbuild/bbs-3.21-bioc/R/site-library --timings midasHLA_1.15.0.tar.gz StartedAt: 2025-02-20 00:04:26 -0500 (Thu, 20 Feb 2025) EndedAt: 2025-02-20 00:11:17 -0500 (Thu, 20 Feb 2025) EllapsedTime: 411.5 seconds RetCode: 0 Status: WARNINGS CheckDir: midasHLA.Rcheck Warnings: 1