Package: midasHLA Version: 1.15.0 Command: /home/biocbuild/R/R/bin/R CMD build --keep-empty-dirs --no-resave-data midasHLA StartedAt: 2025-01-29 00:20:37 -0000 (Wed, 29 Jan 2025) EndedAt: 2025-01-29 00:23:37 -0000 (Wed, 29 Jan 2025) EllapsedTime: 180.1 seconds RetCode: 0 Status: OK PackageFile: midasHLA_1.15.0.tar.gz PackageFileSize: 1.866 MiB