Package: midasHLA Version: 1.15.0 Command: /Library/Frameworks/R.framework/Resources/bin/R CMD INSTALL midasHLA StartedAt: 2025-02-19 15:22:08 -0500 (Wed, 19 Feb 2025) EndedAt: 2025-02-19 15:22:20 -0500 (Wed, 19 Feb 2025) EllapsedTime: 12.4 seconds RetCode: 0 Status: OK