Package: midasHLA Version: 1.15.0 Command: rm -rf midasHLA.buildbin-libdir && mkdir midasHLA.buildbin-libdir && /Users/biocbuild/BBS/utils/build-universal.sh midasHLA_1.15.0.tar.gz /Library/Frameworks/R.framework/Resources/bin/R midasHLA.buildbin-libdir StartedAt: 2025-02-19 22:28:53 -0500 (Wed, 19 Feb 2025) EndedAt: 2025-02-19 22:29:08 -0500 (Wed, 19 Feb 2025) EllapsedTime: 14.3 seconds RetCode: 0 Status: OK PackageFile: midasHLA_1.15.0.tgz PackageFileSize: 2.856 MiB