Package: microbiomeExplorer Version: 1.17.0 Command: /home/biocbuild/bbs-3.21-bioc/R/bin/R CMD INSTALL microbiomeExplorer StartedAt: 2025-02-18 15:21:46 -0500 (Tue, 18 Feb 2025) EndedAt: 2025-02-18 15:21:58 -0500 (Tue, 18 Feb 2025) EllapsedTime: 12.0 seconds RetCode: 0 Status: OK