Package: microbiomeExplorer Version: 1.17.0 Command: /Library/Frameworks/R.framework/Resources/bin/R CMD INSTALL microbiomeExplorer StartedAt: 2025-02-18 15:37:40 -0500 (Tue, 18 Feb 2025) EndedAt: 2025-02-18 15:37:58 -0500 (Tue, 18 Feb 2025) EllapsedTime: 17.9 seconds RetCode: 0 Status: OK