Package: microbiomeExplorer Version: 1.17.0 Command: /Library/Frameworks/R.framework/Resources/bin/R CMD check --install=check:microbiomeExplorer.install-out.txt --library=/Library/Frameworks/R.framework/Resources/library --no-vignettes --timings microbiomeExplorer_1.17.0.tar.gz StartedAt: 2025-02-18 20:11:42 -0500 (Tue, 18 Feb 2025) EndedAt: 2025-02-18 20:12:22 -0500 (Tue, 18 Feb 2025) EllapsedTime: 40.5 seconds RetCode: 0 Status: OK CheckDir: microbiomeExplorer.Rcheck Warnings: 0