Package: microSTASIS Version: 1.7.0 Command: /home/biocbuild/bbs-3.21-bioc/R/bin/R CMD check --install=check:microSTASIS.install-out.txt --library=/home/biocbuild/bbs-3.21-bioc/R/site-library --timings microSTASIS_1.7.0.tar.gz StartedAt: 2025-02-20 23:37:52 -0500 (Thu, 20 Feb 2025) EndedAt: 2025-02-20 23:43:14 -0500 (Thu, 20 Feb 2025) EllapsedTime: 322.4 seconds RetCode: 0 Status: OK CheckDir: microSTASIS.Rcheck Warnings: 0