Package: microSTASIS Version: 1.7.0 Command: /home/biocbuild/bbs-3.21-bioc/R/bin/R CMD build --keep-empty-dirs --no-resave-data microSTASIS StartedAt: 2025-02-20 18:12:23 -0500 (Thu, 20 Feb 2025) EndedAt: 2025-02-20 18:13:33 -0500 (Thu, 20 Feb 2025) EllapsedTime: 70.1 seconds RetCode: 0 Status: OK PackageFile: microSTASIS_1.7.0.tar.gz PackageFileSize: 1.285 MiB