Package: microSTASIS Version: 1.7.0 Command: /Library/Frameworks/R.framework/Resources/bin/R CMD build --keep-empty-dirs --no-resave-data microSTASIS StartedAt: 2025-02-20 17:20:25 -0500 (Thu, 20 Feb 2025) EndedAt: 2025-02-20 17:21:44 -0500 (Thu, 20 Feb 2025) EllapsedTime: 79.0 seconds RetCode: 0 Status: OK PackageFile: microSTASIS_1.7.0.tar.gz PackageFileSize: 1.431 MiB