Package: microSTASIS Version: 1.7.0 Command: /Library/Frameworks/R.framework/Resources/bin/R CMD build --keep-empty-dirs --no-resave-data microSTASIS StartedAt: 2025-02-20 16:56:21 -0500 (Thu, 20 Feb 2025) EndedAt: 2025-02-20 16:57:07 -0500 (Thu, 20 Feb 2025) EllapsedTime: 46.5 seconds RetCode: 0 Status: OK PackageFile: microSTASIS_1.7.0.tar.gz PackageFileSize: 1.423 MiB