Package: microRNA Version: 1.65.1 Command: /home/biocbuild/bbs-3.21-bioc/R/bin/R CMD INSTALL microRNA StartedAt: 2025-02-20 15:24:14 -0500 (Thu, 20 Feb 2025) EndedAt: 2025-02-20 15:24:25 -0500 (Thu, 20 Feb 2025) EllapsedTime: 10.7 seconds RetCode: 0 Status: OK