Package: microRNA Version: 1.65.1 Command: /Library/Frameworks/R.framework/Resources/bin/R CMD INSTALL microRNA StartedAt: 2025-02-19 15:11:11 -0500 (Wed, 19 Feb 2025) EndedAt: 2025-02-19 15:11:26 -0500 (Wed, 19 Feb 2025) EllapsedTime: 15.1 seconds RetCode: 0 Status: OK