Package: microRNA Version: 1.65.1 Command: /Library/Frameworks/R.framework/Resources/bin/R CMD INSTALL microRNA StartedAt: 2025-02-20 15:05:28 -0500 (Thu, 20 Feb 2025) EndedAt: 2025-02-20 15:05:34 -0500 (Thu, 20 Feb 2025) EllapsedTime: 6.0 seconds RetCode: 0 Status: OK