Package: microRNA Version: 1.65.1 Command: rm -rf microRNA.buildbin-libdir && mkdir microRNA.buildbin-libdir && /Users/biocbuild/BBS/utils/build-universal.sh microRNA_1.65.1.tar.gz /Library/Frameworks/R.framework/Resources/bin/R microRNA.buildbin-libdir StartedAt: 2025-02-20 22:25:44 -0500 (Thu, 20 Feb 2025) EndedAt: 2025-02-20 22:25:50 -0500 (Thu, 20 Feb 2025) EllapsedTime: 6.1 seconds RetCode: 0 Status: OK PackageFile: microRNA_1.65.1.tgz PackageFileSize: 5.777 MiB